BEGIN:VCALENDAR
VERSION:2.0
PRODID:-//WYVERN - ECPv6.15.20//NONSGML v1.0//EN
CALSCALE:GREGORIAN
METHOD:PUBLISH
X-WR-CALNAME:WYVERN
X-ORIGINAL-URL:https://www.wyvernltd.com
X-WR-CALDESC:Events for WYVERN
REFRESH-INTERVAL;VALUE=DURATION:PT1H
X-Robots-Tag:noindex
X-PUBLISHED-TTL:PT1H
BEGIN:VTIMEZONE
TZID:America/Los_Angeles
BEGIN:DAYLIGHT
TZOFFSETFROM:-0800
TZOFFSETTO:-0700
TZNAME:PDT
DTSTART:20220313T100000
END:DAYLIGHT
BEGIN:STANDARD
TZOFFSETFROM:-0700
TZOFFSETTO:-0800
TZNAME:PST
DTSTART:20221106T090000
END:STANDARD
BEGIN:DAYLIGHT
TZOFFSETFROM:-0800
TZOFFSETTO:-0700
TZNAME:PDT
DTSTART:20230312T100000
END:DAYLIGHT
BEGIN:STANDARD
TZOFFSETFROM:-0700
TZOFFSETTO:-0800
TZNAME:PST
DTSTART:20231105T090000
END:STANDARD
BEGIN:DAYLIGHT
TZOFFSETFROM:-0800
TZOFFSETTO:-0700
TZNAME:PDT
DTSTART:20240310T100000
END:DAYLIGHT
BEGIN:STANDARD
TZOFFSETFROM:-0700
TZOFFSETTO:-0800
TZNAME:PST
DTSTART:20241103T090000
END:STANDARD
END:VTIMEZONE
BEGIN:VEVENT
DTSTART;TZID=America/Los_Angeles:20230725T090000
DTEND;TZID=America/Los_Angeles:20230728T170000
DTSTAMP:20260419T115645
CREATED:20230512T135646Z
LAST-MODIFIED:20230512T140013Z
UID:10000198-1690275600-1690563600@www.wyvernltd.com
SUMMARY:Safety Leader Training Course In Person
DESCRIPTION:The Safety Leader Training Course is an enjoyable 4-day training event. The first two days cover how to manage an SMS in any organization. Day 3 focuses on audit principles\, processes\, and procedures as described in ISO 19011\, Guidelines for Auditing Management Systems. Trainees who complete this course and have requisite experience will be able to conduct SMS audits worldwide. Day 4 focuses on leadership and management principles related to safety\, and how to ensure a positive safety culture an any organization. Trainees who complete the four-day course will be formally recognized by WYVERN as Accredited Safety Leaders. This course is perfectly suited for Accountable Executives!
URL:https://www.wyvernltd.com/event/safety-leader-training-course-in-person-3/
LOCATION:Van Nuys\, CA\, 7435 Valjean Avenue\, Van Nuys\, CA\, 91406\, United States
CATEGORIES:Safety Leader Certification
ATTACH;FMTTYPE=image/jpeg:https://www.wyvernltd.com/wp-content/uploads/2021/11/dreamstime_s_134205994.jpg
END:VEVENT
BEGIN:VEVENT
DTSTART;TZID=America/Los_Angeles:20230725T090000
DTEND;TZID=America/Los_Angeles:20230727T170000
DTSTAMP:20260419T115645
CREATED:20230512T135050Z
LAST-MODIFIED:20230512T140054Z
UID:10000197-1690275600-1690477200@www.wyvernltd.com
SUMMARY:SMS Auditor Certification Class In Person
DESCRIPTION:The SMS Auditor Accreditation Course is an enjoyable 3-day training event. The first two days cover how to manage an SMS in any organization. Day 3 focuses on audit principles\, processes\, and procedures as described in ISO 19011\, Guidelines for Auditing Management Systems. Trainees who complete this course and have requisite experience will be able to conduct SMS audits worldwide.
URL:https://www.wyvernltd.com/event/sms-auditor-certification-class-in-person-5/
LOCATION:Van Nuys\, CA\, 7435 Valjean Avenue\, Van Nuys\, CA\, 91406\, United States
CATEGORIES:SMS Auditor Accreditation
ATTACH;FMTTYPE=image/jpeg:https://www.wyvernltd.com/wp-content/uploads/2022/10/dreamstime_s_174207394.jpg
END:VEVENT
BEGIN:VEVENT
DTSTART;TZID=America/Los_Angeles:20230725T090000
DTEND;TZID=America/Los_Angeles:20230726T170000
DTSTAMP:20260419T115645
CREATED:20230512T134319Z
LAST-MODIFIED:20230512T140133Z
UID:10000195-1690275600-1690390800@www.wyvernltd.com
SUMMARY:SMS Manager Certification Class In Person
DESCRIPTION:The SMS Manager Certificate Course is an enjoyable 2-day training event. It is an excellent approach to gain the essential skills and knowledge needed to effectively lead a Safety Management System in any organization. Trainees learn progressive techniques applied by top safety professionals around the world. All facets of the SMS are discussed in detail with an experienced subject matter expert.
URL:https://www.wyvernltd.com/event/sms-manager-certification-class-in-person-4/
LOCATION:Van Nuys\, CA\, 7435 Valjean Avenue\, Van Nuys\, CA\, 91406\, United States
CATEGORIES:SMS Manager Certification
ATTACH;FMTTYPE=image/jpeg:https://www.wyvernltd.com/wp-content/uploads/2021/11/dreamstime_s_71527448.jpg
END:VEVENT
BEGIN:VEVENT
DTSTART;TZID=America/Los_Angeles:20230725T090000
DTEND;TZID=America/Los_Angeles:20230725T170000
DTSTAMP:20260419T115645
CREATED:20230512T133636Z
LAST-MODIFIED:20230512T140207Z
UID:10000194-1690275600-1690304400@www.wyvernltd.com
SUMMARY:SMS for Av Pros In Person
DESCRIPTION:The SMS for Aviation Professionals Course is an enjoyable 1-day training event. Trainees learn SMS Principles and are introduced to progressive techniques applied by top safety professionals around the world. All facets of the SMS are discussed in detail with an experienced subject matter expert.
URL:https://www.wyvernltd.com/event/sms-for-av-pros-in-person-2/
LOCATION:Van Nuys\, CA\, 7435 Valjean Avenue\, Van Nuys\, CA\, 91406\, United States
CATEGORIES:SMS for Av Pros
ATTACH;FMTTYPE=image/jpeg:https://www.wyvernltd.com/wp-content/uploads/2021/03/dreamstime_xl_127689444-1.jpg
END:VEVENT
END:VCALENDAR