BEGIN:VCALENDAR
VERSION:2.0
PRODID:-//WYVERN - ECPv6.15.20//NONSGML v1.0//EN
CALSCALE:GREGORIAN
METHOD:PUBLISH
X-WR-CALNAME:WYVERN
X-ORIGINAL-URL:https://www.wyvernltd.com
X-WR-CALDESC:Events for WYVERN
REFRESH-INTERVAL;VALUE=DURATION:PT1H
X-Robots-Tag:noindex
X-PUBLISHED-TTL:PT1H
BEGIN:VTIMEZONE
TZID:America/New_York
BEGIN:DAYLIGHT
TZOFFSETFROM:-0500
TZOFFSETTO:-0400
TZNAME:EDT
DTSTART:20200308T070000
END:DAYLIGHT
BEGIN:STANDARD
TZOFFSETFROM:-0400
TZOFFSETTO:-0500
TZNAME:EST
DTSTART:20201101T060000
END:STANDARD
BEGIN:DAYLIGHT
TZOFFSETFROM:-0500
TZOFFSETTO:-0400
TZNAME:EDT
DTSTART:20210314T070000
END:DAYLIGHT
BEGIN:STANDARD
TZOFFSETFROM:-0400
TZOFFSETTO:-0500
TZNAME:EST
DTSTART:20211107T060000
END:STANDARD
BEGIN:DAYLIGHT
TZOFFSETFROM:-0500
TZOFFSETTO:-0400
TZNAME:EDT
DTSTART:20220313T070000
END:DAYLIGHT
BEGIN:STANDARD
TZOFFSETFROM:-0400
TZOFFSETTO:-0500
TZNAME:EST
DTSTART:20221106T060000
END:STANDARD
END:VTIMEZONE
BEGIN:VEVENT
DTSTART;TZID=America/New_York:20210720T090000
DTEND;TZID=America/New_York:20210723T170000
DTSTAMP:20260425T065108
CREATED:20210224T192026Z
LAST-MODIFIED:20210603T163031Z
UID:10000160-1626771600-1627059600@www.wyvernltd.com
SUMMARY:Safety Leader Training Course
DESCRIPTION:The Online Safety Leader Training Course is a 4-day webinar which is an excellent approach to gain the essential skills and knowledge needed to effectively lead a Safety Management System in any organization. Trainees learn progressive techniques applied by top safety professionals around the world. \nThe program follows the guidance from ICAO\, Safety Management International Collaboration Group (SMICG)\, various national aviation authorities\, and respected professional organizations. This program is recognized by the International Society of Safety Professionals (ISSP). The training also qualifies for 4 credits toward becoming or renewing the NBAA Certified Aviation Manager credential.  \nThe price for the course is $2\,400 per attendee includes the following templates for you to use in your operation: \n\nEmergency Response Plan\nSMS Manual\nSMS Software Tools\nSafety Performance Indicator Tool
URL:https://www.wyvernltd.com/event/safety-leader-training-course-6/
LOCATION:WYVERN Online
ATTACH;FMTTYPE=image/jpeg:https://www.wyvernltd.com/wp-content/uploads/2021/01/webinars.jpg
END:VEVENT
BEGIN:VEVENT
DTSTART;TZID=America/New_York:20210722T090000
DTEND;TZID=America/New_York:20210722T170000
DTSTAMP:20260425T065108
CREATED:20210603T181346Z
LAST-MODIFIED:20210603T181449Z
UID:10000169-1626944400-1626973200@www.wyvernltd.com
SUMMARY:CRM Training Course - Automation Management
DESCRIPTION:Effective CRM has prevented many accidents and saved lives in the aviation industry for decades. WYVERN’s CRM training is enhanced with contemporary techniques to improve the learner’s experience and ensure transfer of critical skills.  \nThe Need for CRM Training \nInvestigators conclude that more than 70 percent of aviation incidents and accidents involve human error. NASA found that the majority of crew errors consist of failures in leadership\, team coordination and decision-making. CRM is a skill that can be developed where a person uses all available resources (information\, equipment and people) to achieve a desired outcome. CRM is the process to identify threats and take appropriate action to mitigate the associated risks. Using CRM\, aviation professionals can better manage errors\, improve morale\, and enhance operational effectiveness. \nAirline safety studies reveal that 98 percent of all flights face an average of four threats per flight. These same studies show that errors were observed on 82 percent of all flights with an average of 2.8 per flight. However\, with effective CRM\, the majority of errors were well-managed and inconsequential.  \nThe ICAO requires CRM programs for all member countries and is promulgated throughout every airline company in each of the 193 ICAO member states around the world. The U.S. Air Force\, among other organizations\, uses CRM for maintenance professionals (aka MRM) to boost communication effectiveness and safety culture in aircraft maintenance organizations.  \nWhy WYVERN CRM Training? \nWYVERN’s CRM training is carefully designed and delivered by experienced airline and business aviation instructors who have implemented effective CRM in major airline companies and business aviation companies. The program is uniquely tailored to capture all the essential elements of CRM for pilots\, maintenance professionals\, dispatchers\, and all other aviation professionals. CRM training focuses on group dynamics\, leadership\, interpersonal communications and decision-making. The course is delivered via a webinar and is highly engaging\, enjoyable\, and packed with valuable lessons.
URL:https://www.wyvernltd.com/event/crm-training-course-automation-management-3/
LOCATION:WYVERN Online
ATTACH;FMTTYPE=image/jpeg:https://www.wyvernltd.com/wp-content/uploads/2021/06/wyvern-crm-automation.jpg
END:VEVENT
END:VCALENDAR