BEGIN:VCALENDAR
VERSION:2.0
PRODID:-//WYVERN - ECPv6.15.20//NONSGML v1.0//EN
CALSCALE:GREGORIAN
METHOD:PUBLISH
X-ORIGINAL-URL:https://www.wyvernltd.com
X-WR-CALDESC:Events for WYVERN
REFRESH-INTERVAL;VALUE=DURATION:PT1H
X-Robots-Tag:noindex
X-PUBLISHED-TTL:PT1H
BEGIN:VTIMEZONE
TZID:America/New_York
BEGIN:DAYLIGHT
TZOFFSETFROM:-0500
TZOFFSETTO:-0400
TZNAME:EDT
DTSTART:20200308T070000
END:DAYLIGHT
BEGIN:STANDARD
TZOFFSETFROM:-0400
TZOFFSETTO:-0500
TZNAME:EST
DTSTART:20201101T060000
END:STANDARD
BEGIN:DAYLIGHT
TZOFFSETFROM:-0500
TZOFFSETTO:-0400
TZNAME:EDT
DTSTART:20210314T070000
END:DAYLIGHT
BEGIN:STANDARD
TZOFFSETFROM:-0400
TZOFFSETTO:-0500
TZNAME:EST
DTSTART:20211107T060000
END:STANDARD
BEGIN:DAYLIGHT
TZOFFSETFROM:-0500
TZOFFSETTO:-0400
TZNAME:EDT
DTSTART:20220313T070000
END:DAYLIGHT
BEGIN:STANDARD
TZOFFSETFROM:-0400
TZOFFSETTO:-0500
TZNAME:EST
DTSTART:20221106T060000
END:STANDARD
END:VTIMEZONE
BEGIN:VEVENT
DTSTART;TZID=America/New_York:20210609T130000
DTEND;TZID=America/New_York:20210609T140000
DTSTAMP:20260425T101043
CREATED:20210407T134355Z
LAST-MODIFIED:20210603T174751Z
UID:10000165-1623243600-1623247200@www.wyvernltd.com
SUMMARY:No Vaccine?... No Job?  Everything Business & Private Aviation Operators Need to Know About COVID-19
DESCRIPTION:With many charter operators and business aviation departments increasing their operational tempo\, is your operation requiring crews to have a vaccine in order to return to work?  What guidelines to follow can be confusing for some\, and this confusion may erode some of that all-important psychological safety in an otherwise flourishing safety culture.\n\nNotable aviation attorneys Mark Dombroff and Mark McKinnon join me as we discuss the current state of vaccine & mask mandates\, and how best to navigate through the confusion.\n\nPlease join us to share your thoughts.
URL:https://www.wyvernltd.com/event/free-wednesday-webinar-new-topics-every-week-2021-06-02/
LOCATION:WYVERN Online
ATTACH;FMTTYPE=image/jpeg:https://www.wyvernltd.com/wp-content/uploads/2021/05/wyvern-webinar-covid-vaccine.jpg
END:VEVENT
BEGIN:VEVENT
DTSTART;TZID=America/New_York:20210615T090000
DTEND;TZID=America/New_York:20210618T170000
DTSTAMP:20260425T101043
CREATED:20210224T191804Z
LAST-MODIFIED:20210224T191804Z
UID:10000159-1623747600-1624035600@www.wyvernltd.com
SUMMARY:Safety Leader Training Course
DESCRIPTION:The Online Safety Leader Training Course is a 4-day webinar which is an excellent approach to gain the essential skills and knowledge needed to effectively lead a Safety Management System in any organization. Trainees learn progressive techniques applied by top safety professionals around the world. \nThe program follows the guidance from ICAO\, Safety Management International Collaboration Group (SMICG)\, various national aviation authorities\, and respected professional organizations. This program is recognized by the International Society of Safety Professionals (ISSP). The training also qualifies for 4 credits toward becoming or renewing the NBAA Certified Aviation Manager credential.  \nThe price for the course is $2\,400 per attendee includes the following templates for you to use in your operation: \n\nEmergency Response Plan\nSMS Manual\nSMS Software Tools\nSafety Performance Indicator Tool
URL:https://www.wyvernltd.com/event/safety-leader-training-course-5/
LOCATION:WYVERN Online
ATTACH;FMTTYPE=image/jpeg:https://www.wyvernltd.com/wp-content/uploads/2021/02/dreamstimefree_2267981.jpg
END:VEVENT
END:VCALENDAR