BEGIN:VCALENDAR
VERSION:2.0
PRODID:-//WYVERN - ECPv6.15.20//NONSGML v1.0//EN
CALSCALE:GREGORIAN
METHOD:PUBLISH
X-WR-CALNAME:WYVERN
X-ORIGINAL-URL:https://www.wyvernltd.com
X-WR-CALDESC:Events for WYVERN
REFRESH-INTERVAL;VALUE=DURATION:PT1H
X-Robots-Tag:noindex
X-PUBLISHED-TTL:PT1H
BEGIN:VTIMEZONE
TZID:America/New_York
BEGIN:DAYLIGHT
TZOFFSETFROM:-0500
TZOFFSETTO:-0400
TZNAME:EDT
DTSTART:20200308T070000
END:DAYLIGHT
BEGIN:STANDARD
TZOFFSETFROM:-0400
TZOFFSETTO:-0500
TZNAME:EST
DTSTART:20201101T060000
END:STANDARD
BEGIN:DAYLIGHT
TZOFFSETFROM:-0500
TZOFFSETTO:-0400
TZNAME:EDT
DTSTART:20210314T070000
END:DAYLIGHT
BEGIN:STANDARD
TZOFFSETFROM:-0400
TZOFFSETTO:-0500
TZNAME:EST
DTSTART:20211107T060000
END:STANDARD
BEGIN:DAYLIGHT
TZOFFSETFROM:-0500
TZOFFSETTO:-0400
TZNAME:EDT
DTSTART:20220313T070000
END:DAYLIGHT
BEGIN:STANDARD
TZOFFSETFROM:-0400
TZOFFSETTO:-0500
TZNAME:EST
DTSTART:20221106T060000
END:STANDARD
END:VTIMEZONE
BEGIN:VEVENT
DTSTART;TZID=America/New_York:20210302T090000
DTEND;TZID=America/New_York:20210302T153000
DTSTAMP:20260425T062039
CREATED:20210208T182010Z
LAST-MODIFIED:20210224T180120Z
UID:10000146-1614675600-1614699000@www.wyvernltd.com
SUMMARY:SMS Training for Aviation Professionals
DESCRIPTION:WYVERN offers this one-day SMS training program for all aviation professionals. The course follows the structure and guidance from ICAO\, the Safety Management International Collaboration Group (SMICG)\, and many civil aviation authorities from around the world.  \nWho Should Attend: This training is designed for ALL aviation line personnel\, managers\, and senior managers to fully understand all the key aspects of SMS as it pertains to an aviation organization. \nWhy: Everyone in an aviation organization should be trained in SMS\, not only to meet requirements\, but to be competent in identifying hazards and effectively managing safety risks. While there are many ways to achieve SMS training\, WYVERN’s course is uniquely designed to be engaging\, with real world examples of safety challenges and solutions that can be immediately applied to your organization.  \nWhere: The course is presented live and online via webinar by a highly experienced and skilled safety risk management instructor with many years of experience assessing organizational safety performance.  \nWhen: The course begins at 0900 EDT and ends at 1530 EDT. There is a lunch break from 1150-1230 EDT.  \nCertificate of Training: Each trainee receives a certificate of completion that validates their educational achievement. This certificate can be provided as proof of training to satisfy regulatory compliance and/or conformity to international standards.  \nCourse Schedule: \n• 0900-0950: Accident Investigation Review \n• 1000-1050: Safety Risk Management: Processes and Tools \n• 1100-1150: Safety Assurance: Principles and Tools \n• 1230-1320: Safety Promotion: Striving for a Safety Culture \n• 1330-1420: Safety Policy & Objectives: The Challenge for Leaders \n• 1430-1520: Quiz and Certificate Issuance
URL:https://www.wyvernltd.com/event/sms-training-for-aviation-professionals/
LOCATION:WYVERN Online
ATTACH;FMTTYPE=image/jpeg:https://www.wyvernltd.com/wp-content/uploads/2021/02/1611605179183.jpeg
END:VEVENT
BEGIN:VEVENT
DTSTART;TZID=America/New_York:20210303T130000
DTEND;TZID=America/New_York:20210303T140000
DTSTAMP:20260425T062039
CREATED:20210208T182810Z
LAST-MODIFIED:20210222T143943Z
UID:10000150-1614776400-1614780000@www.wyvernltd.com
SUMMARY:No Webinar This Week - Watch for March 10th Topic!
DESCRIPTION:Gain safety excellence through our weekly discussions and expert guests!  Learn how to manage risk effectively\, handle stress\, react in a crisis\, and many more relative topics that are faced daily!
URL:https://www.wyvernltd.com/event/free-wednesday-webinar-2021-02-17-2021-02-24-2021-03-03/
LOCATION:WYVERN Online
ATTACH;FMTTYPE=image/jpeg:https://www.wyvernltd.com/wp-content/uploads/2021/02/dreamstimefree_5892263.jpg
END:VEVENT
BEGIN:VEVENT
DTSTART;TZID=America/New_York:20210310T130000
DTEND;TZID=America/New_York:20210310T140000
DTSTAMP:20260425T062039
CREATED:20210208T182810Z
LAST-MODIFIED:20210222T223304Z
UID:10000151-1615381200-1615384800@www.wyvernltd.com
SUMMARY:FREE Wednesday Webinar - New Topics Every Week!
DESCRIPTION:Gain safety excellence through our weekly discussions and expert guests!  Learn how to manage risk effectively\, handle stress\, react in a crisis\, and many more relative topics that are faced daily!
URL:https://www.wyvernltd.com/event/free-wednesday-webinar-2021-02-17-2021-02-24-2021-03-10/2021-03-10/
LOCATION:WYVERN Online
ATTACH;FMTTYPE=image/jpeg:https://www.wyvernltd.com/wp-content/uploads/2021/02/Add-a-heading.jpg
END:VEVENT
BEGIN:VEVENT
DTSTART;TZID=America/New_York:20210316T090000
DTEND;TZID=America/New_York:20210319T170000
DTSTAMP:20260425T062039
CREATED:20210210T034259Z
LAST-MODIFIED:20210210T034259Z
UID:10000155-1615885200-1616173200@www.wyvernltd.com
SUMMARY:Safety Leader Training Course
DESCRIPTION:The Online Safety Leader Training Course is a 4-day webinar which is an excellent approach to gain the essential skills and knowledge needed to effectively lead a Safety Management System in any organization. Trainees learn progressive techniques applied by top safety professionals around the world. \nThe program follows the guidance from ICAO\, Safety Management International Collaboration Group (SMICG)\, various national aviation authorities\, and respected professional organizations. This program is recognized by the International Society of Safety Professionals (ISSP). The training also qualifies for 4 credits toward becoming or renewing the NBAA Certified Aviation Manager credential.  \nThe price for the course is $2\,400 per attendee includes the following templates for you to use in your operation: \n\nEmergency Response Plan\nSMS Manual\nSMS Software Tools\nSafety Performance Indicator Tool
URL:https://www.wyvernltd.com/event/safety-leader-training-course-2/
LOCATION:WYVERN Online
ATTACH;FMTTYPE=image/jpeg:https://www.wyvernltd.com/wp-content/uploads/2021/02/shutterstock_1298250025.jpg
END:VEVENT
BEGIN:VEVENT
DTSTART;TZID=America/New_York:20210317T130000
DTEND;TZID=America/New_York:20210317T140000
DTSTAMP:20260425T062039
CREATED:20210208T182810Z
LAST-MODIFIED:20210312T182500Z
UID:10000153-1615986000-1615989600@www.wyvernltd.com
SUMMARY:Go-Around Decision-Making in the Moment
DESCRIPTION:NASA Shuttle astronaut Charlie Precourt and the leadership team from the Presage Group will discuss the psychology of deciding when to abandon the unstable approach and the complexity – and criticality – of that split-second decision
URL:https://www.wyvernltd.com/event/free-wednesday-webinar-2021-02-17-2021-02-24-2021-03-17/
LOCATION:WYVERN Online
ATTACH;FMTTYPE=image/jpeg:https://www.wyvernltd.com/wp-content/uploads/2021/02/wyvern-webinar-nasa.jpg
END:VEVENT
BEGIN:VEVENT
DTSTART;TZID=America/New_York:20210324T130000
DTEND;TZID=America/New_York:20210324T140000
DTSTAMP:20260425T062039
CREATED:20210208T182810Z
LAST-MODIFIED:20210222T223304Z
UID:10000152-1616590800-1616594400@www.wyvernltd.com
SUMMARY:FREE Wednesday Webinar - New Topics Every Week!
DESCRIPTION:Gain safety excellence through our weekly discussions and expert guests!  Learn how to manage risk effectively\, handle stress\, react in a crisis\, and many more relative topics that are faced daily!
URL:https://www.wyvernltd.com/event/free-wednesday-webinar-2021-02-17-2021-02-24-2021-03-10/2021-03-24/
LOCATION:WYVERN Online
ATTACH;FMTTYPE=image/jpeg:https://www.wyvernltd.com/wp-content/uploads/2021/02/Add-a-heading.jpg
END:VEVENT
BEGIN:VEVENT
DTSTART;TZID=America/New_York:20210331T130000
DTEND;TZID=America/New_York:20210331T140000
DTSTAMP:20260425T062039
CREATED:20210208T182810Z
LAST-MODIFIED:20210329T140900Z
UID:10000154-1617195600-1617199200@www.wyvernltd.com
SUMMARY:The Cognitively Unavailable Pilot
DESCRIPTION:Distraction\, task saturation\, channelized attention – these can all lead to a loss of situational awareness to airspeed states or trends. Several accidents have shown that insidious airspeed decay happens….and\, lacking timely correction\, unrecoverable rates of descent can develop into loss of control. Joining me will be Andrew Skow\, former chief engineer for Northrop Grumman\, and Tom Huff\, Aviation Safety Officer for Gulfstream Aerospace. Andrew is the developer of a visual & aural multi-sensory alerting system called Q-Alpha which is designed to provide field-of-view\, single source information and can alert a distracted pilot well ahead of a dangerous aircraft state.
URL:https://www.wyvernltd.com/event/free-wednesday-webinar-2021-02-17-2021-02-24-2021-03-31/
LOCATION:WYVERN Online
ATTACH;FMTTYPE=image/jpeg:https://www.wyvernltd.com/wp-content/uploads/2021/02/wyvern-webinar-pilot.jpg
END:VEVENT
END:VCALENDAR