BEGIN:VCALENDAR
VERSION:2.0
PRODID:-//WYVERN - ECPv6.15.20//NONSGML v1.0//EN
CALSCALE:GREGORIAN
METHOD:PUBLISH
X-ORIGINAL-URL:https://www.wyvernltd.com
X-WR-CALDESC:Events for WYVERN
REFRESH-INTERVAL;VALUE=DURATION:PT1H
X-Robots-Tag:noindex
X-PUBLISHED-TTL:PT1H
BEGIN:VTIMEZONE
TZID:America/Los_Angeles
BEGIN:DAYLIGHT
TZOFFSETFROM:-0800
TZOFFSETTO:-0700
TZNAME:PDT
DTSTART:20220313T100000
END:DAYLIGHT
BEGIN:STANDARD
TZOFFSETFROM:-0700
TZOFFSETTO:-0800
TZNAME:PST
DTSTART:20221106T090000
END:STANDARD
BEGIN:DAYLIGHT
TZOFFSETFROM:-0800
TZOFFSETTO:-0700
TZNAME:PDT
DTSTART:20230312T100000
END:DAYLIGHT
BEGIN:STANDARD
TZOFFSETFROM:-0700
TZOFFSETTO:-0800
TZNAME:PST
DTSTART:20231105T090000
END:STANDARD
BEGIN:DAYLIGHT
TZOFFSETFROM:-0800
TZOFFSETTO:-0700
TZNAME:PDT
DTSTART:20240310T100000
END:DAYLIGHT
BEGIN:STANDARD
TZOFFSETFROM:-0700
TZOFFSETTO:-0800
TZNAME:PST
DTSTART:20241103T090000
END:STANDARD
END:VTIMEZONE
BEGIN:VTIMEZONE
TZID:America/New_York
BEGIN:DAYLIGHT
TZOFFSETFROM:-0500
TZOFFSETTO:-0400
TZNAME:EDT
DTSTART:20220313T070000
END:DAYLIGHT
BEGIN:STANDARD
TZOFFSETFROM:-0400
TZOFFSETTO:-0500
TZNAME:EST
DTSTART:20221106T060000
END:STANDARD
BEGIN:DAYLIGHT
TZOFFSETFROM:-0500
TZOFFSETTO:-0400
TZNAME:EDT
DTSTART:20230312T070000
END:DAYLIGHT
BEGIN:STANDARD
TZOFFSETFROM:-0400
TZOFFSETTO:-0500
TZNAME:EST
DTSTART:20231105T060000
END:STANDARD
BEGIN:DAYLIGHT
TZOFFSETFROM:-0500
TZOFFSETTO:-0400
TZNAME:EDT
DTSTART:20240310T070000
END:DAYLIGHT
BEGIN:STANDARD
TZOFFSETFROM:-0400
TZOFFSETTO:-0500
TZNAME:EST
DTSTART:20241103T060000
END:STANDARD
END:VTIMEZONE
BEGIN:VEVENT
DTSTART;TZID=America/Los_Angeles:20230725T090000
DTEND;TZID=America/Los_Angeles:20230725T170000
DTSTAMP:20260419T234845
CREATED:20230512T133636Z
LAST-MODIFIED:20230512T140207Z
UID:10000194-1690275600-1690304400@www.wyvernltd.com
SUMMARY:SMS for Av Pros In Person
DESCRIPTION:The SMS for Aviation Professionals Course is an enjoyable 1-day training event. Trainees learn SMS Principles and are introduced to progressive techniques applied by top safety professionals around the world. All facets of the SMS are discussed in detail with an experienced subject matter expert.
URL:https://www.wyvernltd.com/event/sms-for-av-pros-in-person-2/
LOCATION:Van Nuys\, CA\, 7435 Valjean Avenue\, Van Nuys\, CA\, 91406\, United States
CATEGORIES:SMS for Av Pros
ATTACH;FMTTYPE=image/jpeg:https://www.wyvernltd.com/wp-content/uploads/2021/03/dreamstime_xl_127689444-1.jpg
END:VEVENT
BEGIN:VEVENT
DTSTART;TZID=America/New_York:20230620T090000
DTEND;TZID=America/New_York:20230620T170000
DTSTAMP:20260419T234845
CREATED:20230519T164454Z
LAST-MODIFIED:20230519T164454Z
UID:10000199-1687251600-1687280400@www.wyvernltd.com
SUMMARY:SMS for Av Pros
DESCRIPTION:The SMS for Aviation Professionals Course is an enjoyable 1-day training event. Trainees learn SMS Principles and are introduced to progressive techniques applied by top safety professionals around the world. All facets of the SMS are discussed in detail with an experienced subject matter expert.
URL:https://www.wyvernltd.com/event/sms-for-av-pros-2/
LOCATION:WYVERN Online
CATEGORIES:SMS for Av Pros
ATTACH;FMTTYPE=image/jpeg:https://www.wyvernltd.com/wp-content/uploads/2021/03/dreamstime_xl_127689444-1.jpg
END:VEVENT
BEGIN:VEVENT
DTSTART;TZID=America/New_York:20230516T090000
DTEND;TZID=America/New_York:20230516T170000
DTSTAMP:20260419T234845
CREATED:20230313T230800Z
LAST-MODIFIED:20230313T231251Z
UID:10000192-1684227600-1684256400@www.wyvernltd.com
SUMMARY:SMS for Av Pros In Person
DESCRIPTION:The SMS for Aviation Professionals Course is an enjoyable 1-day training event. Trainees learn SMS Principles and are introduced to progressive techniques applied by top safety professionals around the world. All facets of the SMS are discussed in detail with an experienced subject matter expert.
URL:https://www.wyvernltd.com/event/sms-for-av-pros-in-person/
LOCATION:WYVERN Headquarters in Nashua\, NH\, 20 Trafalgar Sq\, Nashua\, NH\, 03063\, United States
CATEGORIES:SMS for Av Pros
ATTACH;FMTTYPE=image/jpeg:https://www.wyvernltd.com/wp-content/uploads/2021/03/dreamstime_xl_127689444-1.jpg
END:VEVENT
BEGIN:VEVENT
DTSTART;TZID=America/New_York:20230418T090000
DTEND;TZID=America/New_York:20230418T170000
DTSTAMP:20260419T234845
CREATED:20230313T225620Z
LAST-MODIFIED:20230313T230215Z
UID:10000191-1681808400-1681837200@www.wyvernltd.com
SUMMARY:SMS for Av Pros
DESCRIPTION:The SMS for Aviation Professionals Course is an enjoyable 1-day training event. Trainees learn SMS Principles and are introduced to progressive techniques applied by top safety professionals around the world. All facets of the SMS are discussed in detail with an experienced subject matter expert.
URL:https://www.wyvernltd.com/event/sms-for-av-pros/
LOCATION:WYVERN Online
CATEGORIES:SMS for Av Pros
ATTACH;FMTTYPE=image/jpeg:https://www.wyvernltd.com/wp-content/uploads/2021/03/dreamstime_xl_127689444-1.jpg
END:VEVENT
END:VCALENDAR