BEGIN:VCALENDAR
VERSION:2.0
PRODID:-//WYVERN - ECPv6.15.20//NONSGML v1.0//EN
CALSCALE:GREGORIAN
METHOD:PUBLISH
X-ORIGINAL-URL:https://www.wyvernltd.com
X-WR-CALDESC:Events for WYVERN
REFRESH-INTERVAL;VALUE=DURATION:PT1H
X-Robots-Tag:noindex
X-PUBLISHED-TTL:PT1H
BEGIN:VTIMEZONE
TZID:America/New_York
BEGIN:DAYLIGHT
TZOFFSETFROM:-0500
TZOFFSETTO:-0400
TZNAME:EDT
DTSTART:20220313T070000
END:DAYLIGHT
BEGIN:STANDARD
TZOFFSETFROM:-0400
TZOFFSETTO:-0500
TZNAME:EST
DTSTART:20221106T060000
END:STANDARD
BEGIN:DAYLIGHT
TZOFFSETFROM:-0500
TZOFFSETTO:-0400
TZNAME:EDT
DTSTART:20230312T070000
END:DAYLIGHT
BEGIN:STANDARD
TZOFFSETFROM:-0400
TZOFFSETTO:-0500
TZNAME:EST
DTSTART:20231105T060000
END:STANDARD
BEGIN:DAYLIGHT
TZOFFSETFROM:-0500
TZOFFSETTO:-0400
TZNAME:EDT
DTSTART:20240310T070000
END:DAYLIGHT
BEGIN:STANDARD
TZOFFSETFROM:-0400
TZOFFSETTO:-0500
TZNAME:EST
DTSTART:20241103T060000
END:STANDARD
BEGIN:DAYLIGHT
TZOFFSETFROM:-0500
TZOFFSETTO:-0400
TZNAME:EDT
DTSTART:20250309T070000
END:DAYLIGHT
BEGIN:STANDARD
TZOFFSETFROM:-0400
TZOFFSETTO:-0500
TZNAME:EST
DTSTART:20251102T060000
END:STANDARD
BEGIN:DAYLIGHT
TZOFFSETFROM:-0500
TZOFFSETTO:-0400
TZNAME:EDT
DTSTART:20260308T070000
END:DAYLIGHT
BEGIN:STANDARD
TZOFFSETFROM:-0400
TZOFFSETTO:-0500
TZNAME:EST
DTSTART:20261101T060000
END:STANDARD
END:VTIMEZONE
BEGIN:VTIMEZONE
TZID:America/Los_Angeles
BEGIN:DAYLIGHT
TZOFFSETFROM:-0800
TZOFFSETTO:-0700
TZNAME:PDT
DTSTART:20220313T100000
END:DAYLIGHT
BEGIN:STANDARD
TZOFFSETFROM:-0700
TZOFFSETTO:-0800
TZNAME:PST
DTSTART:20221106T090000
END:STANDARD
BEGIN:DAYLIGHT
TZOFFSETFROM:-0800
TZOFFSETTO:-0700
TZNAME:PDT
DTSTART:20230312T100000
END:DAYLIGHT
BEGIN:STANDARD
TZOFFSETFROM:-0700
TZOFFSETTO:-0800
TZNAME:PST
DTSTART:20231105T090000
END:STANDARD
BEGIN:DAYLIGHT
TZOFFSETFROM:-0800
TZOFFSETTO:-0700
TZNAME:PDT
DTSTART:20240310T100000
END:DAYLIGHT
BEGIN:STANDARD
TZOFFSETFROM:-0700
TZOFFSETTO:-0800
TZNAME:PST
DTSTART:20241103T090000
END:STANDARD
END:VTIMEZONE
BEGIN:VEVENT
DTSTART;TZID=America/New_York:20250211T090000
DTEND;TZID=America/New_York:20250211T170000
DTSTAMP:20260419T133540
CREATED:20241202T214321Z
LAST-MODIFIED:20241202T222742Z
UID:10000263-1739264400-1739293200@www.wyvernltd.com
SUMMARY:SMS for Av Pros Online
DESCRIPTION:The SMS for Aviation Professionals Course is an enjoyable 1-day training event. Trainees learn SMS Principles and are introduced to progressive techniques applied by top safety professionals around the world. All facets of the SMS are discussed in detail with an experienced subject matter expert.
URL:https://www.wyvernltd.com/event/sms-for-av-pros-online/
LOCATION:WYVERN Online
CATEGORIES:SMS for Av Pros
ATTACH;FMTTYPE=image/jpeg:https://www.wyvernltd.com/wp-content/uploads/2021/08/dreamstime_s_177519829.jpg
END:VEVENT
BEGIN:VEVENT
DTSTART;TZID=America/New_York:20241112T090000
DTEND;TZID=America/New_York:20241112T170000
DTSTAMP:20260419T133540
CREATED:20240905T144830Z
LAST-MODIFIED:20240905T144830Z
UID:10000259-1731402000-1731430800@www.wyvernltd.com
SUMMARY:SMS for Av Pros
DESCRIPTION:The SMS for Aviation Professionals Course is an enjoyable 1-day training event. Trainees learn SMS Principles and are introduced to progressive techniques applied by top safety professionals around the world. All facets of the SMS are discussed in detail with an experienced subject matter expert.
URL:https://www.wyvernltd.com/event/sms-for-av-pros-12/
LOCATION:WYVERN Online
CATEGORIES:SMS for Av Pros
ATTACH;FMTTYPE=image/jpeg:https://www.wyvernltd.com/wp-content/uploads/2021/03/dreamstime_xl_127689444-1.jpg
END:VEVENT
BEGIN:VEVENT
DTSTART;TZID=America/New_York:20241008T090000
DTEND;TZID=America/New_York:20241008T170000
DTSTAMP:20260419T133540
CREATED:20240628T205218Z
LAST-MODIFIED:20240905T173402Z
UID:10000255-1728378000-1728406800@www.wyvernltd.com
SUMMARY:SMS for Av Pros
DESCRIPTION:The SMS for Aviation Professionals Course is an enjoyable 1-day training event. Trainees learn SMS Principles and are introduced to progressive techniques applied by top safety professionals around the world. All facets of the SMS are discussed in detail with an experienced subject matter expert.
URL:https://www.wyvernltd.com/event/sms-for-av-pros-in-person-5/
LOCATION:WYVERN Online
CATEGORIES:SMS for Av Pros
ATTACH;FMTTYPE=image/jpeg:https://www.wyvernltd.com/wp-content/uploads/2021/03/dreamstime_xl_127689444-1.jpg
END:VEVENT
BEGIN:VEVENT
DTSTART;TZID=America/New_York:20240917T090000
DTEND;TZID=America/New_York:20240917T170000
DTSTAMP:20260419T133540
CREATED:20240628T203242Z
LAST-MODIFIED:20240628T203259Z
UID:10000251-1726563600-1726592400@www.wyvernltd.com
SUMMARY:SMS for Av Pros
DESCRIPTION:The SMS for Aviation Professionals Course is an enjoyable 1-day training event. Trainees learn SMS Principles and are introduced to progressive techniques applied by top safety professionals around the world. All facets of the SMS are discussed in detail with an experienced subject matter expert.
URL:https://www.wyvernltd.com/event/sms-for-av-pros-11/
LOCATION:WYVERN Online
CATEGORIES:SMS for Av Pros
ATTACH;FMTTYPE=image/jpeg:https://www.wyvernltd.com/wp-content/uploads/2021/03/dreamstime_xl_127689444-1.jpg
END:VEVENT
BEGIN:VEVENT
DTSTART;TZID=America/New_York:20240716T090000
DTEND;TZID=America/New_York:20240716T170000
DTSTAMP:20260419T133540
CREATED:20240403T022223Z
LAST-MODIFIED:20240403T024807Z
UID:10000239-1721120400-1721149200@www.wyvernltd.com
SUMMARY:SMS for Av Pros
DESCRIPTION:The SMS for Aviation Professionals Course is an enjoyable 1-day training event. Trainees learn SMS Principles and are introduced to progressive techniques applied by top safety professionals around the world. All facets of the SMS are discussed in detail with an experienced subject matter expert.
URL:https://www.wyvernltd.com/event/sms-for-av-pros-9/
LOCATION:WYVERN Online
CATEGORIES:SMS for Av Pros
ATTACH;FMTTYPE=image/jpeg:https://www.wyvernltd.com/wp-content/uploads/2021/03/dreamstime_xl_127689444-1.jpg
END:VEVENT
BEGIN:VEVENT
DTSTART;TZID=America/New_York:20240611T090000
DTEND;TZID=America/New_York:20240611T170000
DTSTAMP:20260419T133540
CREATED:20240403T025401Z
LAST-MODIFIED:20240516T173217Z
UID:10000243-1718096400-1718125200@www.wyvernltd.com
SUMMARY:SMS for Av Pros In Person
DESCRIPTION:The SMS for Aviation Professionals Course is an enjoyable 1-day training event. Trainees learn SMS Principles and are introduced to progressive techniques applied by top safety professionals around the world. All facets of the SMS are discussed in detail with an experienced subject matter expert.
URL:https://www.wyvernltd.com/event/sms-for-av-pros-10/
LOCATION:WYVERN Headquarters in Nashua\, NH\, 20 Trafalgar Sq\, Nashua\, NH\, 03063\, United States
CATEGORIES:SMS for Av Pros
ATTACH;FMTTYPE=image/jpeg:https://www.wyvernltd.com/wp-content/uploads/2021/03/dreamstime_xl_127689444-1.jpg
END:VEVENT
BEGIN:VEVENT
DTSTART;TZID=America/New_York:20240514T090000
DTEND;TZID=America/New_York:20240514T170000
DTSTAMP:20260419T133540
CREATED:20231212T004231Z
LAST-MODIFIED:20231212T004231Z
UID:10000220-1715677200-1715706000@www.wyvernltd.com
SUMMARY:SMS for Av Pros
DESCRIPTION:The SMS for Aviation Professionals Course is an enjoyable 1-day training event. Trainees learn SMS Principles and are introduced to progressive techniques applied by top safety professionals around the world. All facets of the SMS are discussed in detail with an experienced subject matter expert.
URL:https://www.wyvernltd.com/event/sms-for-av-pros-7/
LOCATION:WYVERN Online
CATEGORIES:SMS for Av Pros
ATTACH;FMTTYPE=image/jpeg:https://www.wyvernltd.com/wp-content/uploads/2021/03/dreamstime_xl_127689444-1.jpg
END:VEVENT
BEGIN:VEVENT
DTSTART;TZID=America/New_York:20240305T090000
DTEND;TZID=America/New_York:20240305T170000
DTSTAMP:20260419T133540
CREATED:20240103T150435Z
LAST-MODIFIED:20240103T150435Z
UID:10000227-1709629200-1709658000@www.wyvernltd.com
SUMMARY:SMS for Av Pros
DESCRIPTION:The SMS for Aviation Professionals Course is an enjoyable 1-day training event. Trainees learn SMS Principles and are introduced to progressive techniques applied by top safety professionals around the world. All facets of the SMS are discussed in detail with an experienced subject matter expert.
URL:https://www.wyvernltd.com/event/sms-for-av-pros-8/
LOCATION:WYVERN Online
CATEGORIES:SMS for Av Pros
ATTACH;FMTTYPE=image/jpeg:https://www.wyvernltd.com/wp-content/uploads/2021/03/dreamstime_xl_127689444-1.jpg
END:VEVENT
BEGIN:VEVENT
DTSTART;TZID=America/New_York:20240116T090000
DTEND;TZID=America/New_York:20240116T170000
DTSTAMP:20260419T133540
CREATED:20231212T003705Z
LAST-MODIFIED:20231212T003705Z
UID:10000219-1705395600-1705424400@www.wyvernltd.com
SUMMARY:SMS for Av Pros
DESCRIPTION:The SMS for Aviation Professionals Course is an enjoyable 1-day training event. Trainees learn SMS Principles and are introduced to progressive techniques applied by top safety professionals around the world. All facets of the SMS are discussed in detail with an experienced subject matter expert.
URL:https://www.wyvernltd.com/event/sms-for-av-pros-6/
LOCATION:WYVERN Online
CATEGORIES:SMS for Av Pros
ATTACH;FMTTYPE=image/jpeg:https://www.wyvernltd.com/wp-content/uploads/2021/03/dreamstime_xl_127689444-1.jpg
END:VEVENT
BEGIN:VEVENT
DTSTART;TZID=America/New_York:20231212T090000
DTEND;TZID=America/New_York:20231212T170000
DTSTAMP:20260419T133540
CREATED:20230801T200301Z
LAST-MODIFIED:20230801T200301Z
UID:10000215-1702371600-1702400400@www.wyvernltd.com
SUMMARY:SMS for Av Pros
DESCRIPTION:The SMS for Aviation Professionals Course is an enjoyable 1-day training event. Trainees learn SMS Principles and are introduced to progressive techniques applied by top safety professionals around the world. All facets of the SMS are discussed in detail with an experienced subject matter expert.
URL:https://www.wyvernltd.com/event/sms-for-av-pros-5/
LOCATION:WYVERN Online
CATEGORIES:SMS for Av Pros
ATTACH;FMTTYPE=image/jpeg:https://www.wyvernltd.com/wp-content/uploads/2021/03/dreamstime_xl_127689444-1.jpg
END:VEVENT
BEGIN:VEVENT
DTSTART;TZID=America/New_York:20231114T090000
DTEND;TZID=America/New_York:20231114T170000
DTSTAMP:20260419T133540
CREATED:20230715T142349Z
LAST-MODIFIED:20230715T142349Z
UID:10000204-1699952400-1699981200@www.wyvernltd.com
SUMMARY:SMS for Av Pros
DESCRIPTION:The SMS for Aviation Professionals Course is an enjoyable 1-day training event. Trainees learn SMS Principles and are introduced to progressive techniques applied by top safety professionals around the world. All facets of the SMS are discussed in detail with an experienced subject matter expert.
URL:https://www.wyvernltd.com/event/sms-for-av-pros-4/
LOCATION:WYVERN Online
CATEGORIES:SMS for Av Pros
ATTACH;FMTTYPE=image/jpeg:https://www.wyvernltd.com/wp-content/uploads/2021/03/dreamstime_xl_127689444-1.jpg
END:VEVENT
BEGIN:VEVENT
DTSTART;TZID=America/New_York:20230822T090000
DTEND;TZID=America/New_York:20230822T170000
DTSTAMP:20260419T133540
CREATED:20230715T142111Z
LAST-MODIFIED:20230715T142111Z
UID:10000203-1692694800-1692723600@www.wyvernltd.com
SUMMARY:SMS for Av Pros
DESCRIPTION:The SMS for Aviation Professionals Course is an enjoyable 1-day training event. Trainees learn SMS Principles and are introduced to progressive techniques applied by top safety professionals around the world. All facets of the SMS are discussed in detail with an experienced subject matter expert.
URL:https://www.wyvernltd.com/event/sms-for-av-pros-3/
LOCATION:WYVERN Online
CATEGORIES:SMS for Av Pros
ATTACH;FMTTYPE=image/jpeg:https://www.wyvernltd.com/wp-content/uploads/2021/03/dreamstime_xl_127689444-1.jpg
END:VEVENT
BEGIN:VEVENT
DTSTART;TZID=America/Los_Angeles:20230725T090000
DTEND;TZID=America/Los_Angeles:20230725T170000
DTSTAMP:20260419T133540
CREATED:20230512T133636Z
LAST-MODIFIED:20230512T140207Z
UID:10000194-1690275600-1690304400@www.wyvernltd.com
SUMMARY:SMS for Av Pros In Person
DESCRIPTION:The SMS for Aviation Professionals Course is an enjoyable 1-day training event. Trainees learn SMS Principles and are introduced to progressive techniques applied by top safety professionals around the world. All facets of the SMS are discussed in detail with an experienced subject matter expert.
URL:https://www.wyvernltd.com/event/sms-for-av-pros-in-person-2/
LOCATION:Van Nuys\, CA\, 7435 Valjean Avenue\, Van Nuys\, CA\, 91406\, United States
CATEGORIES:SMS for Av Pros
ATTACH;FMTTYPE=image/jpeg:https://www.wyvernltd.com/wp-content/uploads/2021/03/dreamstime_xl_127689444-1.jpg
END:VEVENT
BEGIN:VEVENT
DTSTART;TZID=America/New_York:20230620T090000
DTEND;TZID=America/New_York:20230620T170000
DTSTAMP:20260419T133540
CREATED:20230519T164454Z
LAST-MODIFIED:20230519T164454Z
UID:10000199-1687251600-1687280400@www.wyvernltd.com
SUMMARY:SMS for Av Pros
DESCRIPTION:The SMS for Aviation Professionals Course is an enjoyable 1-day training event. Trainees learn SMS Principles and are introduced to progressive techniques applied by top safety professionals around the world. All facets of the SMS are discussed in detail with an experienced subject matter expert.
URL:https://www.wyvernltd.com/event/sms-for-av-pros-2/
LOCATION:WYVERN Online
CATEGORIES:SMS for Av Pros
ATTACH;FMTTYPE=image/jpeg:https://www.wyvernltd.com/wp-content/uploads/2021/03/dreamstime_xl_127689444-1.jpg
END:VEVENT
BEGIN:VEVENT
DTSTART;TZID=America/New_York:20230516T090000
DTEND;TZID=America/New_York:20230516T170000
DTSTAMP:20260419T133540
CREATED:20230313T230800Z
LAST-MODIFIED:20230313T231251Z
UID:10000192-1684227600-1684256400@www.wyvernltd.com
SUMMARY:SMS for Av Pros In Person
DESCRIPTION:The SMS for Aviation Professionals Course is an enjoyable 1-day training event. Trainees learn SMS Principles and are introduced to progressive techniques applied by top safety professionals around the world. All facets of the SMS are discussed in detail with an experienced subject matter expert.
URL:https://www.wyvernltd.com/event/sms-for-av-pros-in-person/
LOCATION:WYVERN Headquarters in Nashua\, NH\, 20 Trafalgar Sq\, Nashua\, NH\, 03063\, United States
CATEGORIES:SMS for Av Pros
ATTACH;FMTTYPE=image/jpeg:https://www.wyvernltd.com/wp-content/uploads/2021/03/dreamstime_xl_127689444-1.jpg
END:VEVENT
BEGIN:VEVENT
DTSTART;TZID=America/New_York:20230418T090000
DTEND;TZID=America/New_York:20230418T170000
DTSTAMP:20260419T133540
CREATED:20230313T225620Z
LAST-MODIFIED:20230313T230215Z
UID:10000191-1681808400-1681837200@www.wyvernltd.com
SUMMARY:SMS for Av Pros
DESCRIPTION:The SMS for Aviation Professionals Course is an enjoyable 1-day training event. Trainees learn SMS Principles and are introduced to progressive techniques applied by top safety professionals around the world. All facets of the SMS are discussed in detail with an experienced subject matter expert.
URL:https://www.wyvernltd.com/event/sms-for-av-pros/
LOCATION:WYVERN Online
CATEGORIES:SMS for Av Pros
ATTACH;FMTTYPE=image/jpeg:https://www.wyvernltd.com/wp-content/uploads/2021/03/dreamstime_xl_127689444-1.jpg
END:VEVENT
END:VCALENDAR