BEGIN:VCALENDAR
VERSION:2.0
PRODID:-//WYVERN - ECPv6.15.20//NONSGML v1.0//EN
CALSCALE:GREGORIAN
METHOD:PUBLISH
X-WR-CALNAME:WYVERN
X-ORIGINAL-URL:https://www.wyvernltd.com
X-WR-CALDESC:Events for WYVERN
REFRESH-INTERVAL;VALUE=DURATION:PT1H
X-Robots-Tag:noindex
X-PUBLISHED-TTL:PT1H
BEGIN:VTIMEZONE
TZID:America/New_York
BEGIN:DAYLIGHT
TZOFFSETFROM:-0500
TZOFFSETTO:-0400
TZNAME:EDT
DTSTART:20230312T070000
END:DAYLIGHT
BEGIN:STANDARD
TZOFFSETFROM:-0400
TZOFFSETTO:-0500
TZNAME:EST
DTSTART:20231105T060000
END:STANDARD
BEGIN:DAYLIGHT
TZOFFSETFROM:-0500
TZOFFSETTO:-0400
TZNAME:EDT
DTSTART:20240310T070000
END:DAYLIGHT
BEGIN:STANDARD
TZOFFSETFROM:-0400
TZOFFSETTO:-0500
TZNAME:EST
DTSTART:20241103T060000
END:STANDARD
BEGIN:DAYLIGHT
TZOFFSETFROM:-0500
TZOFFSETTO:-0400
TZNAME:EDT
DTSTART:20250309T070000
END:DAYLIGHT
BEGIN:STANDARD
TZOFFSETFROM:-0400
TZOFFSETTO:-0500
TZNAME:EST
DTSTART:20251102T060000
END:STANDARD
END:VTIMEZONE
BEGIN:VEVENT
DTSTART;TZID=America/New_York:20241008T090000
DTEND;TZID=America/New_York:20241008T170000
DTSTAMP:20260421T001341
CREATED:20240628T205218Z
LAST-MODIFIED:20240905T173402Z
UID:10000255-1728378000-1728406800@www.wyvernltd.com
SUMMARY:SMS for Av Pros
DESCRIPTION:The SMS for Aviation Professionals Course is an enjoyable 1-day training event. Trainees learn SMS Principles and are introduced to progressive techniques applied by top safety professionals around the world. All facets of the SMS are discussed in detail with an experienced subject matter expert.
URL:https://www.wyvernltd.com/event/sms-for-av-pros-in-person-5/
LOCATION:WYVERN Online
CATEGORIES:SMS for Av Pros
ATTACH;FMTTYPE=image/jpeg:https://www.wyvernltd.com/wp-content/uploads/2021/03/dreamstime_xl_127689444-1.jpg
END:VEVENT
BEGIN:VEVENT
DTSTART;TZID=America/New_York:20241008T090000
DTEND;TZID=America/New_York:20241009T170000
DTSTAMP:20260421T001341
CREATED:20240628T205532Z
LAST-MODIFIED:20240905T173206Z
UID:10000256-1728378000-1728493200@www.wyvernltd.com
SUMMARY:SMS Manager Certification Class
DESCRIPTION:The SMS Manager Certificate Course is an enjoyable 2-day training event. It is an excellent approach to gain the essential skills and knowledge needed to effectively lead a Safety Management System in any organization. Trainees learn progressive techniques applied by top safety professionals around the world. All facets of the SMS are discussed in detail with an experienced subject matter expert.
URL:https://www.wyvernltd.com/event/sms-manager-certification-class-in-person-8/
LOCATION:WYVERN Online
CATEGORIES:SMS Manager Certification
ATTACH;FMTTYPE=image/jpeg:https://www.wyvernltd.com/wp-content/uploads/2021/11/dreamstime_s_71527448.jpg
END:VEVENT
BEGIN:VEVENT
DTSTART;TZID=America/New_York:20241008T090000
DTEND;TZID=America/New_York:20241010T170000
DTSTAMP:20260421T001341
CREATED:20240628T205814Z
LAST-MODIFIED:20240905T173505Z
UID:10000257-1728378000-1728579600@www.wyvernltd.com
SUMMARY:SMS Auditor Certification Class
DESCRIPTION:The SMS Auditor Accreditation Course is an enjoyable 3-day training event. The first two days cover how to manage an SMS in any organization. Day 3 focuses on audit principles\, processes\, and procedures as described in ISO 19011\, Guidelines for Auditing Management Systems. Trainees who complete this course and have requisite experience will be able to conduct SMS audits worldwide.
URL:https://www.wyvernltd.com/event/sms-auditor-certification-class-in-person-8/
LOCATION:WYVERN Online
CATEGORIES:SMS Auditor Accreditation
ATTACH;FMTTYPE=image/jpeg:https://www.wyvernltd.com/wp-content/uploads/2022/10/dreamstime_s_174207394.jpg
END:VEVENT
END:VCALENDAR