BEGIN:VCALENDAR
VERSION:2.0
PRODID:-//WYVERN - ECPv6.15.20//NONSGML v1.0//EN
CALSCALE:GREGORIAN
METHOD:PUBLISH
X-ORIGINAL-URL:https://www.wyvernltd.com
X-WR-CALDESC:Events for WYVERN
REFRESH-INTERVAL;VALUE=DURATION:PT1H
X-Robots-Tag:noindex
X-PUBLISHED-TTL:PT1H
BEGIN:VTIMEZONE
TZID:America/New_York
BEGIN:DAYLIGHT
TZOFFSETFROM:-0500
TZOFFSETTO:-0400
TZNAME:EDT
DTSTART:20240310T070000
END:DAYLIGHT
BEGIN:STANDARD
TZOFFSETFROM:-0400
TZOFFSETTO:-0500
TZNAME:EST
DTSTART:20241103T060000
END:STANDARD
BEGIN:DAYLIGHT
TZOFFSETFROM:-0500
TZOFFSETTO:-0400
TZNAME:EDT
DTSTART:20250309T070000
END:DAYLIGHT
BEGIN:STANDARD
TZOFFSETFROM:-0400
TZOFFSETTO:-0500
TZNAME:EST
DTSTART:20251102T060000
END:STANDARD
BEGIN:DAYLIGHT
TZOFFSETFROM:-0500
TZOFFSETTO:-0400
TZNAME:EDT
DTSTART:20260308T070000
END:DAYLIGHT
BEGIN:STANDARD
TZOFFSETFROM:-0400
TZOFFSETTO:-0500
TZNAME:EST
DTSTART:20261101T060000
END:STANDARD
END:VTIMEZONE
BEGIN:VEVENT
DTSTART;TZID=America/New_York:20250211T090000
DTEND;TZID=America/New_York:20250211T170000
DTSTAMP:20260420T205435
CREATED:20241202T214321Z
LAST-MODIFIED:20241202T222742Z
UID:10000263-1739264400-1739293200@www.wyvernltd.com
SUMMARY:SMS for Av Pros Online
DESCRIPTION:The SMS for Aviation Professionals Course is an enjoyable 1-day training event. Trainees learn SMS Principles and are introduced to progressive techniques applied by top safety professionals around the world. All facets of the SMS are discussed in detail with an experienced subject matter expert.
URL:https://www.wyvernltd.com/event/sms-for-av-pros-online/
LOCATION:WYVERN Online
CATEGORIES:SMS for Av Pros
ATTACH;FMTTYPE=image/jpeg:https://www.wyvernltd.com/wp-content/uploads/2021/08/dreamstime_s_177519829.jpg
END:VEVENT
BEGIN:VEVENT
DTSTART;TZID=America/New_York:20250211T090000
DTEND;TZID=America/New_York:20250212T170000
DTSTAMP:20260420T205435
CREATED:20241202T215618Z
LAST-MODIFIED:20241202T223518Z
UID:10000269-1739264400-1739379600@www.wyvernltd.com
SUMMARY:SMS Manager Certification Class Online
DESCRIPTION:The SMS Manager Certificate Course is an enjoyable 2-day training event. It is an excellent approach to gain the essential skills and knowledge needed to effectively lead a Safety Management System in any organization. Trainees learn progressive techniques applied by top safety professionals around the world. All facets of the SMS are discussed in detail with an experienced subject matter expert.
URL:https://www.wyvernltd.com/event/sms-manager-certification-class-online/
LOCATION:WYVERN Online
CATEGORIES:SMS Manager Certification
ATTACH;FMTTYPE=image/jpeg:https://www.wyvernltd.com/wp-content/uploads/2024/12/dreamstime_s_132384183.jpg
END:VEVENT
BEGIN:VEVENT
DTSTART;TZID=America/New_York:20250211T090000
DTEND;TZID=America/New_York:20250213T170000
DTSTAMP:20260420T205435
CREATED:20241202T220956Z
LAST-MODIFIED:20241202T224148Z
UID:10000275-1739264400-1739466000@www.wyvernltd.com
SUMMARY:SMS Auditor Certification Class Online
DESCRIPTION:The SMS Auditor Accreditation Course is an enjoyable 3-day training event. The first two days cover how to manage an SMS in any organization. Day 3 focuses on audit principles\, processes\, and procedures as described in ISO 19011\, Guidelines for Auditing Management Systems. Trainees who complete this course and have requisite experience will be able to conduct SMS audits worldwide.
URL:https://www.wyvernltd.com/event/sms-auditor-certification-class-online/
LOCATION:WYVERN Online
CATEGORIES:SMS Auditor Accreditation
ATTACH;FMTTYPE=image/jpeg:https://www.wyvernltd.com/wp-content/uploads/2024/12/dreamstime_s_189288704.jpg
END:VEVENT
BEGIN:VEVENT
DTSTART;TZID=America/New_York:20250225T090000
DTEND;TZID=America/New_York:20250227T170000
DTSTAMP:20260420T205435
CREATED:20241204T202009Z
LAST-MODIFIED:20241204T210240Z
UID:10000281-1740474000-1740675600@www.wyvernltd.com
SUMMARY:Closed for a Private Workshop Onsite at One of Our Customer's Facilities
DESCRIPTION:Host a Closed or Open Class at Your Location on a Future Date!\nTake your organization’s Safety Management System to the next level with WYVERN’s Safety Leader Training Course™. This workshop equips you with essential skills and knowledge\, enabling you to lead with confidence while adhering to the standards set by ICAO\, SMICG\, and leading aviation authorities. \n**Select Your Hosting Option:**\n– Host a Closed Class (exclusive to your team) \n– Host an Open Class (allow others to join) \nContact us to learn more and schedule a class at your facility!
URL:https://www.wyvernltd.com/event/closed-for-a-private-event/
LOCATION:FL
CATEGORIES:Safety Leader Certification
ATTACH;FMTTYPE=image/jpeg:https://www.wyvernltd.com/wp-content/uploads/2024/12/Private-Hosted-SMS.jpg
END:VEVENT
END:VCALENDAR